BEGIN:VCALENDAR
VERSION:2.0
METHOD:PUBLISH
X-WR-CALNAME;VALUE=TEXT:
PRODID:-//Drupal iCal API//EN
BEGIN:VEVENT
2026-05-07 07:30:00 AEST
2026-05-07 09:30:00 AEST
DTSTART:20260506T213000Z
DTEND:20260506T233000Z
SUMMARY:ANU Alumni Catch-up in Brisbane
UID:847930a4-6737-4174-a985-66cc9281b093
URL:https://www.anu.edu.au/alumni/events/anu-alumni-catch-up-in-brisbane
END:VEVENT
END:VCALENDAR
