BEGIN:VCALENDAR
VERSION:2.0
METHOD:PUBLISH
X-WR-CALNAME;VALUE=TEXT:
PRODID:-//Drupal iCal API//EN
BEGIN:VEVENT
2026-04-23 08:00:00 AEST
2026-04-23 09:00:00 AEST
DTSTART:20260422T220000Z
DTEND:20260422T230000Z
SUMMARY:Meet the author - Caillan Davenport
UID:df76dda9-ad6f-4447-80f9-cbddaba9abc2
URL:https://www.anu.edu.au/events/meet-the-author-caillan-davenport
END:VEVENT
END:VCALENDAR
