BEGIN:VCALENDAR
VERSION:2.0
METHOD:PUBLISH
X-WR-CALNAME;VALUE=TEXT:
PRODID:-//Drupal iCal API//EN
BEGIN:VEVENT
2026-03-16 07:00:00 AEDT
2026-03-16 08:00:00 AEDT
DTSTART:20260315T200000Z
DTEND:20260315T210000Z
SUMMARY:Meet the author - Michael Wesley
UID:a269b1e4-10f2-4f8d-9619-927c86d262d4
URL:https://www.anu.edu.au/events/meet-the-author-michael-wesley
END:VEVENT
END:VCALENDAR
