BEGIN:VCALENDAR
VERSION:2.0
METHOD:PUBLISH
X-WR-CALNAME;VALUE=TEXT:
PRODID:-//Drupal iCal API//EN
BEGIN:VEVENT
2025-11-05 06:00:00 AEDT
2025-11-05 07:00:00 AEDT
DTSTART:20251104T190000Z
DTEND:20251104T200000Z
SUMMARY:Freedom&#039;s Frontier: Belarus and the Battle for Europe&#039;s Future
UID:009924b1-9a3a-4880-b7b8-e52950853f02
URL:https://www.anu.edu.au/events/freedoms-frontier-belarus-and-the-battle-for-europes-future
END:VEVENT
END:VCALENDAR
