BEGIN:VCALENDAR
VERSION:2.0
METHOD:PUBLISH
X-WR-CALNAME;VALUE=TEXT:
PRODID:-//Drupal iCal API//EN
BEGIN:VEVENT
2025-09-23 08:00:00 AEST
2025-09-23 11:30:00 AEST
DTSTART:20250922T220000Z
DTEND:20250923T013000Z
SUMMARY:&quot;Science. Art. Film.&quot; screening &amp; discussion of &quot;Paprika&quot;
UID:fb07a3c1-4fc3-4580-963e-506511fd7e02
URL:https://www.anu.edu.au/events/science-art-film-screening-discussion-of-paprika
END:VEVENT
END:VCALENDAR
