BEGIN:VCALENDAR
VERSION:2.0
METHOD:PUBLISH
X-WR-CALNAME;VALUE=TEXT:
PRODID:-//Drupal iCal API//EN
BEGIN:VEVENT
2025-09-10 11:30:00 AEST
2025-09-11 03:30:00 AEST
DTSTART:20250910T133000Z
DTEND:20250910T173000Z
SUMMARY:ANU Disaster Solutions Update 2025
UID:923e88e9-495a-4e13-be8d-0ecf3cced122
URL:https://www.anu.edu.au/events/anu-disaster-solutions-update-2025
END:VEVENT
END:VCALENDAR
