BEGIN:VCALENDAR
VERSION:2.0
METHOD:PUBLISH
X-WR-CALNAME;VALUE=TEXT:
PRODID:-//Drupal iCal API//EN
BEGIN:VEVENT
2025-06-03 08:00:00 AEST
2025-06-03 09:30:00 AEST
DTSTART:20250602T220000Z
DTEND:20250602T233000Z
SUMMARY:In Conversation with Saul Griffith
UID:4b890f24-f385-4cb0-8349-b835dc6cfc67
URL:https://www.anu.edu.au/events/in-conversation-with-saul-griffith
END:VEVENT
END:VCALENDAR
