BEGIN:VCALENDAR
VERSION:2.0
METHOD:PUBLISH
X-WR-CALNAME;VALUE=TEXT:
PRODID:-//Drupal iCal API//EN
BEGIN:VEVENT
2024-11-30 08:30:00 AEDT
2024-11-30 08:30:00 AEDT
DTSTART:20241129T213000Z
DTEND:20241129T213000Z
SUMMARY:Elijah
UID:8d0f530c-c8b5-4117-b07c-7ffeacead820
URL:https://www.anu.edu.au/events/elijah
END:VEVENT
END:VCALENDAR
