BEGIN:VCALENDAR
VERSION:2.0
METHOD:PUBLISH
X-WR-CALNAME;VALUE=TEXT:
PRODID:-//Drupal iCal API//EN
BEGIN:VEVENT
2022-07-29 04:00:00 AEST
2022-07-29 05:30:00 AEST
DTSTART:20220728T180000Z
DTEND:20220728T193000Z
SUMMARY:75th Anniversary closing ceremony
UID:6f263bca-0f2e-42b4-aa82-22c0700bd26c
URL:https://www.anu.edu.au/events/75th-anniversary-closing-ceremony
END:VEVENT
END:VCALENDAR
