BEGIN:VCALENDAR
VERSION:2.0
METHOD:PUBLISH
X-WR-CALNAME;VALUE=TEXT:
PRODID:-//Drupal iCal API//EN
BEGIN:VEVENT
2022-02-09 11:00:00 AEDT
2022-04-10 07:00:00 AEST
DTSTART:20220209T120000Z
DTEND:20220409T200000Z
SUMMARY:Emma Beer: Zooper Dooper
UID:060a0565-dce2-441d-a135-12d62ad14524
URL:https://www.anu.edu.au/events/emma-beer-zooper-dooper
END:VEVENT
END:VCALENDAR
